BEGIN:VCALENDAR
VERSION:2.0
PRODID:-//eventon.com NONSGML v1.0//EN
BEGIN:VEVENT
UID:69e4ef69535cd
DTSTAMP:20260419T170617
DTSTART:20200808T100000Z
DTEND:20200808T110000Z
LOCATION:IWKA Akademie Villach 
SUMMARY:Kids Prüfung Villach\,  Pandas
DESCRIPTION: Kids Prüfung Villach\,  Pandas
END:VEVENT
END:VCALENDAR